BEGIN:VCALENDAR
VERSION:2.0
PRODID:-//ChamberMaster//Event Calendar 2.0//EN
METHOD:PUBLISH
X-PUBLISHED-TTL:P3D
REFRESH-INTERVAL:P3D
CALSCALE:GREGORIAN
BEGIN:VEVENT
DTSTART:20160430T130000Z
DTEND:20160430T200000Z
X-MICROSOFT-CDO-ALLDAYEVENT:FALSE
SUMMARY:Lil' sugar Dust-off Car\, Truck & Cycle Show
DESCRIPTION:Dust off your Lil' sugar and drive her to the 13th annual auto show at the Maple in April Festival. Awards\, Door prizes\, games\, DJ's Lee & Chip. Registration benefits the Hadley Business Association Scholarship Fund.
X-ALT-DESC;FMTTYPE=text/html:Dust off your Lil&#39\; sugar and drive her to the 13th annual auto show at the Maple in April Festival. Awards\, Door prizes\, games\, DJ&#39\;s Lee &amp\; Chip. Registration benefits the Hadley Business Association Scholarship Fund.
LOCATION:Hadley Smead Park Stony Creek Rd\, cty rte 1 Hadley NY
UID:e.2254.15287
SEQUENCE:3
DTSTAMP:20260421T164117Z
URL:https://chamber.saratoga.org/events/details/lil-sugar-dust-off-car-truck-cycle-show-04-30-2016-15287
END:VEVENT

END:VCALENDAR
