BEGIN:VCALENDAR
VERSION:2.0
PRODID:-//ChamberMaster//Event Calendar 2.0//EN
METHOD:PUBLISH
X-PUBLISHED-TTL:P3D
REFRESH-INTERVAL:P3D
CALSCALE:GREGORIAN
BEGIN:VEVENT
DTSTART:20170216T223000Z
DTEND:20170216T233000Z
X-MICROSOFT-CDO-ALLDAYEVENT:FALSE
SUMMARY:Lift Your Confidence with The Weekend Lift...
DESCRIPTION:Have you been thinking about a facelift?\n\n\n\nGet all of your questions answered and see actual patient results at Dr. Edwin Williams ~The Face Specialist\, Weekend Lift SEMINAR\n\n\n\nThe Weekend Lift procedure is simple\, quick and can easily fit into your lifestyle. This procedure can be done in an hour with minimal downtime and it's an affordable solution to traditional lifting procedures!
X-ALT-DESC;FMTTYPE=text/html:<em>Have you been thinking about a facelift?</em><br />\n<br />\nGet all of your questions answered and see actual patient results at <a href="http://www.williamsfacialsurgery.com/about-us/our-doctors/dr-edwin-williams">Dr. Edwin Williams ~The Face Specialist\, </a>Weekend Lift SEMINAR<br />\n<br />\nThe Weekend Lift procedure is simple\, quick and can easily fit into your lifestyle. This procedure can be done in an hour with minimal downtime and it&#39\;s an affordable solution to traditional lifting procedures!
LOCATION:1072 Troy Schenectady Rd. Latham NY 12110
UID:e.2254.22471
SEQUENCE:3
DTSTAMP:20260420T102136Z
URL:https://chamber.saratoga.org/events/details/lift-your-confidence-with-the-weekend-lift-02-16-2017-22471
END:VEVENT

END:VCALENDAR
