BEGIN:VCALENDAR
VERSION:2.0
PRODID:-//ChamberMaster//Event Calendar 2.0//EN
METHOD:PUBLISH
X-PUBLISHED-TTL:P3D
REFRESH-INTERVAL:P3D
CALSCALE:GREGORIAN
BEGIN:VEVENT
DTSTART:20170212T180000Z
DTEND:20170212T200000Z
X-MICROSOFT-CDO-ALLDAYEVENT:FALSE
SUMMARY:Lia Nissan's Self Defense and Safety Seminar
DESCRIPTION:This introduction course exposes participants to REAL LIFE safety scenarios\, how to notice immanent threaths and how to "avoid" a tragic outcome altogether. The instructors will show the particpiants simple techniques that are effective in real-life situations.No "black belt" ability requried. This course is appropriate for ages 10 and up.
X-ALT-DESC;FMTTYPE=text/html:This introduction course exposes participants to REAL LIFE safety scenarios\, how to notice immanent threaths and how to &quot\;avoid&quot\; a tragic outcome altogether. The instructors will show the particpiants simple techniques that are effective in real-life situations.No &quot\;black belt&quot\; ability requried. This course is appropriate for ages 10 and up.
LOCATION:Lia Nissan of Saratoga 2906 Route 9\, Malta
UID:e.2254.22472
SEQUENCE:3
DTSTAMP:20260420T115432Z
URL:https://chamber.saratoga.org/events/details/lia-nissan-s-self-defense-and-safety-seminar-22472
END:VEVENT

END:VCALENDAR
