BEGIN:VCALENDAR
VERSION:2.0
PRODID:-//ChamberMaster//Event Calendar 2.0//EN
METHOD:PUBLISH
X-PUBLISHED-TTL:P3D
REFRESH-INTERVAL:P3D
CALSCALE:GREGORIAN
BEGIN:VEVENT
DTSTART:20160923T160000Z
DTEND:20160923T230000Z
X-MICROSOFT-CDO-ALLDAYEVENT:FALSE
SUMMARY:Lia Infiniti Launch Party
DESCRIPTION:You're Invited to the Infiniti Premiere Event!\n\nFeaturing the 2017 Q60 & QX30\n\n\n\nJoin us for live entertainment\, special guests\, giveaways and an exciting unveiling!\n\n\n\nTest Drives: 12pm-4pm\n\nCocktail Party: 4pm-7pm
X-ALT-DESC;FMTTYPE=text/html:You&#39\;re Invited to the Infiniti Premiere Event!<br />\nFeaturing the 2017 Q60 &amp\; QX30<br />\n<br />\nJoin us for live entertainment\, special guests\, giveaways and an exciting unveiling!<br />\n<br />\nTest Drives: 12pm-4pm<br />\nCocktail Party: 4pm-7pm
LOCATION:Saratoga Auto Museum 110 Avenue of the Pines Saratoga Springs\, NY 12866 518-213-3231
UID:e.2254.19661
SEQUENCE:3
DTSTAMP:20260420T231715Z
URL:https://chamber.saratoga.org/events/details/lia-infiniti-launch-party-19661
END:VEVENT

END:VCALENDAR
