BEGIN:VCALENDAR
VERSION:2.0
PRODID:-//ChamberMaster//Event Calendar 2.0//EN
METHOD:PUBLISH
X-PUBLISHED-TTL:P3D
REFRESH-INTERVAL:P3D
CALSCALE:GREGORIAN
BEGIN:VEVENT
DTSTART:20150618T220000Z
DTEND:20150619T020000Z
X-MICROSOFT-CDO-ALLDAYEVENT:FALSE
SUMMARY:Lee Roy Reams with Alex Rybeck
DESCRIPTION:Nominated for both the Tony & Drama Desk Awards as Best Featured Actor in the musical 42nd Street\, few performers can match his list of Broadway credits: Sweet Charity\, Oklahoma\, Applause\, Hello Dolly\, La Cage aux Follies\, Beauty and the Beast\, The Producers and An Evening with Jerry Herman. Mr. Reams appears on concert stages regional theater and cabarets throughout the country. We are most fortunate he will be with us at the 801 Supper Club!
X-ALT-DESC;FMTTYPE=text/html:Nominated for both the Tony &amp\; Drama Desk Awards as Best Featured Actor in the musical 42nd Street\, few performers can match his list of Broadway credits: Sweet Charity\, Oklahoma\, Applause\, Hello Dolly\, La Cage aux Follies\, Beauty and the Beast\, The Producers and An Evening with Jerry Herman. Mr. Reams appears on concert stages regional&nbsp\;theater and cabarets throughout the country. We are most fortunate he will be with us at the 801 Supper Club!
LOCATION:801 Supper Club @ The Mansion Inn 801 Route 29 Rock City Falls NY 12863
UID:e.2254.8355
SEQUENCE:3
DTSTAMP:20260423T072906Z
URL:https://chamber.saratoga.org/events/details/lee-roy-reams-with-alex-rybeck-06-18-2015-8355
END:VEVENT

END:VCALENDAR
