BEGIN:VCALENDAR
VERSION:2.0
PRODID:-//ChamberMaster//Event Calendar 2.0//EN
METHOD:PUBLISH
X-PUBLISHED-TTL:P3D
REFRESH-INTERVAL:P3D
CALSCALE:GREGORIAN
BEGIN:VEVENT
DTSTART:20140910T203000Z
DTEND:20140910T223000Z
X-MICROSOFT-CDO-ALLDAYEVENT:FALSE
SUMMARY:Lecture: "To Everything There Is a Season: Pete Seeger and the Power of Song" by Allan Winkler - 09/10/2014
DESCRIPTION:Lecture: "To Everything There Is a Season: Pete Seeger and the Power of Song" by Allan WinklerPrize-winning teacher and author Allan M. Winkler is a distinguished professor of history and associate dean of the college of arts and sciences at Miami University in Ohio. His most recent book is "To Everything There is a Season":  Pete Seeger and the Power of Song (Oxford University Press\, 2009). 6:30 p.m.-Davis Auditorium For more information call 518-580-5261
X-ALT-DESC;FMTTYPE=text/html:<p>Lecture: "To Everything There Is a Season: Pete Seeger and the Power of Song" by Allan Winkler</p><p><span style="color: black\;">Prize-winning teacher and author Allan M. Winkler is a distinguished professor of history and associate dean of the college of arts and sciences at Miami University in Ohio. His most recent book is <em>"To Everything There is a Season": &nbsp\;Pete Seeger and the Power of Song</em> (Oxford University Press\, 2009).</span></p> <p><span>6:30 p.m.-Davis Auditorium</span></p> <span style="font-size: 12pt\; font-family: Times New Roman\,serif\;">For more information call 518-580-5261</span>
LOCATION:Davis Auditorium\, Skidmore College
UID:e.2254.3529
SEQUENCE:3
DTSTAMP:20260424T111131Z
URL:https://chamber.saratoga.org/events/details/lecture-to-everything-there-is-a-season-pete-seeger-and-the-power-of-song-by-allan-winkler-09-10-2014-09-10-2014-3529
END:VEVENT

END:VCALENDAR
