BEGIN:VCALENDAR
VERSION:2.0
PRODID:-//ChamberMaster//Event Calendar 2.0//EN
METHOD:PUBLISH
X-PUBLISHED-TTL:P3D
REFRESH-INTERVAL:P3D
CALSCALE:GREGORIAN
BEGIN:VEVENT
DTSTART:20150402T224500Z
DTEND:20150403T003000Z
X-MICROSOFT-CDO-ALLDAYEVENT:FALSE
SUMMARY:Lecture
DESCRIPTION:Lecture: "A Generation Indebted: Student Loan Debt and the Pursuit of the American Dream\," by Jason Houle\, assistant professor of sociology at Dartmouth College. 6:45 p.m.-Davis Auditorium For more information call 518-580-5411
X-ALT-DESC;FMTTYPE=text/html:Lecture: &quot\;A Generation Indebted: Student Loan Debt and the Pursuit of the American Dream\,&quot\; by Jason Houle\, assistant professor of sociology at Dartmouth College. 6:45 p.m.-Davis Auditorium For more information call 518-580-5411
LOCATION:Skidmore College\, Davis Auditorium 815 N. Broadway Saratoga Springs\, NY 12866
UID:e.2254.7566
SEQUENCE:3
DTSTAMP:20260423T180353Z
URL:https://chamber.saratoga.org/events/details/lecture-04-02-2015-7566
END:VEVENT

END:VCALENDAR
