BEGIN:VCALENDAR
VERSION:2.0
PRODID:-//ChamberMaster//Event Calendar 2.0//EN
METHOD:PUBLISH
X-PUBLISHED-TTL:P3D
REFRESH-INTERVAL:P3D
CALSCALE:GREGORIAN
BEGIN:VEVENT
DTSTART;VALUE=DATE:20160229
DTEND;VALUE=DATE:20160301
TRANSP:TRANSPARENT
X-MICROSOFT-CDO-ALLDAYEVENT:TRUE
SUMMARY:Leap of Kindness Day
DESCRIPTION:On February 29\, 2016\, we all have one additional day in this #LeapYear. We believe the best way to use this one additional day is for everyone to do something kind for someone else. Thus\, we are inviting everyone in Saratoga County (and beyond) to celebrate February 29\, 2016\, as Leap of Kindness Day. To do so\, you simply need to do something nice or kind for someone else and if someone else does something nice or kind for you then pay it forward.\n\n\n\nFor more information\, ideas on what you can do\, or to submit an idea\, please visit http://www.saratoga.org/pages/leapofkindnessday.
X-ALT-DESC;FMTTYPE=text/html:<strong><span style="font-weight:normal\;background-image:initial\;background-attachment:initial\;background-size:initial\;background-origin:initial\;background-clip:initial\;background-position:initial\;background-repeat:initial\;"><span style="font-family:arial\,sans-serif\;">On February 29\, 2016\, we all have one additional day in this #LeapYear. We believe the best way to use this one additional day is for everyone to do something kind for someone else. Thus\, we are inviting everyone in Saratoga County (and beyond) to celebrate February 29\, 2016\, as Leap of Kindness Day. To do so\, you simply need to do something nice or kind for someone else and if someone else does something nice or kind for you then pay it forward.<br />\n<br />\nFor more information\, ideas on what you can do\, or to submit an idea\, please visit&nbsp\;</span></span></strong><a href="http://www.saratoga.org/pages/leapofkindnessday">http://www.saratoga.org/pages/leapofkindnessday</a>.
LOCATION:Saratoga County
UID:e.2254.14856
SEQUENCE:3
DTSTAMP:20260422T022513Z
URL:https://chamber.saratoga.org/events/details/leap-of-kindness-day-02-29-2016-14856
END:VEVENT

END:VCALENDAR
