BEGIN:VCALENDAR
VERSION:2.0
PRODID:-//ChamberMaster//Event Calendar 2.0//EN
METHOD:PUBLISH
X-PUBLISHED-TTL:P3D
REFRESH-INTERVAL:P3D
CALSCALE:GREGORIAN
BEGIN:VEVENT
DTSTART:20150320T223000Z
DTEND:20150321T000000Z
X-MICROSOFT-CDO-ALLDAYEVENT:FALSE
SUMMARY:Leadership Seminar and Book Signing - Jason Redman
DESCRIPTION:Leadership Seminar and Book Signing\n\n\n\nFeaturing: Jason Redman\, Retired US Navy SEAL & Author of TheTrident: The Forging and Reforging of a Navy SEAL Leader"\n\n\n\nJason Redman has 21 years of service with the US Navy SEALs learning about courage\, leadership\, teamwork\, overcoming severe wounds\, and has transferred these lessons into his powerful presentations designed to educate\, motivate\, and inspire.\n\n\n\nTo learn more about Jason\, go to www.SOFSpoken.com\n\n\n\nTo Register Contact:\n\nCINDY DURFEY\n\n(518) 581-2480 ext. 204\n\ncdurfey@saratogapublishing.com
X-ALT-DESC;FMTTYPE=text/html:Leadership Seminar and Book Signing<br />\n<br />\nFeaturing: <strong>Jason Redman</strong>\, Retired US Navy SEAL &amp\; Author of <em>TheTrident: The Forging and Reforging of a Navy SEAL Leader&quot\;</em><br />\n<br />\nJason Redman has 21 years of service with the US Navy SEALs learning about courage\, leadership\, teamwork\, overcoming severe wounds\, and has transferred these lessons into his powerful presentations designed to educate\, motivate\, and inspire.<br />\n<br />\nTo learn more about Jason\, go to <a href="http://www.SOFSpoken.com">www.SOFSpoken.com</a><br />\n<br />\nTo Register Contact:<br />\nCINDY DURFEY<br />\n(518) 581-2480 ext. 204<br />\n<a href="mailto:cdurfey@saratogapublishing.com">cdurfey@saratogapublishing.com</a><br />\n&nbsp\;
LOCATION:Saratoga Springs City Center 522 Broadway Saratoga Springs\, NY 12866
UID:e.2254.5504
SEQUENCE:3
DTSTAMP:20260423T214540Z
URL:https://chamber.saratoga.org/events/details/leadership-seminar-and-book-signing-jason-redman-03-20-2015-5504
END:VEVENT

END:VCALENDAR
