BEGIN:VCALENDAR
VERSION:2.0
PRODID:-//ChamberMaster//Event Calendar 2.0//EN
METHOD:PUBLISH
X-PUBLISHED-TTL:P3D
REFRESH-INTERVAL:P3D
CALSCALE:GREGORIAN
BEGIN:VEVENT
DTSTART:20150508T120000Z
DTEND:20150508T203000Z
X-MICROSOFT-CDO-ALLDAYEVENT:FALSE
SUMMARY:Leadercast 2015
DESCRIPTION:Leadercast exists to positively change the way the world thinks about leadership. This year's theme- The Brave Ones- challenges leaders to focus on the courage necessary to lead. Experience Leadercast and discover what it means to be a leader worth following. For more information\, please click here to see the flyer.\n\n\n\nTo Register\, please visit www.leadershipsaratoga.org
X-ALT-DESC;FMTTYPE=text/html:<p>Leadercast exists to positively change the way the world thinks about leadership. This year&#39\;s theme- The Brave Ones- challenges leaders to focus on the courage necessary to lead. Experience Leadercast and discover what it means to be a leader worth following. For more information\, <a href="http://cloud.chambermaster.com/userfiles/UserFiles/chambers/2254/File/LC15-Simulcast-Flyer.jpg">please click</a> here to see the flyer.</p>\n\n<p><br />\nTo Register\, please visit <a href="http://www.leadershipsaratoga.org/alumni-association/events/leadercast-2015/">www.leadershipsaratoga.org</a>&nbsp\;<br />\n&nbsp\;</p>\n
LOCATION:Skidmore College\, Gannet Auditorium 815 North Broadway Saratoga Springs\, NY 12866
UID:e.2254.6934
SEQUENCE:3
DTSTAMP:20260423T170345Z
URL:https://chamber.saratoga.org/events/details/leadercast-2015-05-08-2015-6934
END:VEVENT

END:VCALENDAR
