BEGIN:VCALENDAR
VERSION:2.0
PRODID:-//ChamberMaster//Event Calendar 2.0//EN
METHOD:PUBLISH
X-PUBLISHED-TTL:P3D
REFRESH-INTERVAL:P3D
CALSCALE:GREGORIAN
BEGIN:VEVENT
DTSTART:20160709T130000Z
DTEND:20160709T200000Z
X-MICROSOFT-CDO-ALLDAYEVENT:FALSE
SUMMARY:Large Market Basket with Barbara Boughton. #963-0709.
DESCRIPTION:A favorite basket is like an old friend\, the one you grab first for a project\, one you can count on and one that is totally suited to you. Woven on an oak D-handle\, this basket offers a choice of techniques with which to weave a sturdy solid bottom\, using color which coordinates with the students' choice of patterns to weave up the sides. A variety of embellishments from fabric to pottery may be added to the finished piece\, weaving together your purpose and aesthetic. Dimensions are approximately 18 inches long\, 12 inches wide\, 7 inches high at the sides and 12-16 inches high at the handle\, depending on choice.
X-ALT-DESC;FMTTYPE=text/html:<pre>\n<span style="font-size:12pt"><span style="font-family:arial\,sans-serif"><span style="color:black">A favorite basket is like an old friend\, the one you grab first for a project\, one you can count on and one that is totally suited to you. Woven on an oak D-handle\, this basket offers a choice of techniques with which to weave a sturdy solid bottom\, using color which coordinates with the students&#39\; choice of patterns to weave up the sides. A variety of embellishments from fabric to pottery may be added to the finished piece\, weaving together your purpose and aesthetic. Dimensions are approximately 18 inches long\, 12 inches wide\, 7 inches high at the sides and 12-16 inches high at the handle\, depending on choice.</span></span></span></pre>\n
LOCATION:Adirondack Folk School 51 Main Street Lake Luzerne\, NY 12846
UID:e.2254.15619
SEQUENCE:3
DTSTAMP:20260421T051139Z
URL:https://chamber.saratoga.org/events/details/large-market-basket-with-barbara-boughton-963-0709-07-09-2016-15619
END:VEVENT

END:VCALENDAR
