BEGIN:VCALENDAR
VERSION:2.0
PRODID:-//ChamberMaster//Event Calendar 2.0//EN
METHOD:PUBLISH
X-PUBLISHED-TTL:P3D
REFRESH-INTERVAL:P3D
CALSCALE:GREGORIAN
BEGIN:VEVENT
DTSTART:20160807T130000Z
DTEND:20160807T170000Z
X-MICROSOFT-CDO-ALLDAYEVENT:FALSE
SUMMARY:Lampworking: Beads Don't Have To Be Round with Renee Kingsley. #927-0807.
DESCRIPTION:Tired of Round beads? Beads come in many shapes and sizes. In this class you will learn how to use tools and marvering techniques to shape glass into square\, triangle\, bi-cone\, tube and tab shaped beads. Previous lamp work experience required.
X-ALT-DESC;FMTTYPE=text/html:<pre>\n<span style="font-size:12pt"><span style="font-family:arial\,sans-serif"><span style="color:black">Tired of Round beads? Beads come in many shapes and sizes. In this class you will learn how to use tools and marvering techniques to shape glass into square\, triangle\, bi-cone\, tube and tab shaped beads. Previous lamp work experience required.</span></span></span></pre>\n
LOCATION:Adirondack Folk School 51 Main Street Lake Luzerne\, NY 12846
UID:e.2254.16097
SEQUENCE:3
DTSTAMP:20260421T003743Z
URL:https://chamber.saratoga.org/events/details/lampworking-beads-don-t-have-to-be-round-with-renee-kingsley-927-0807-08-07-2016-16097
END:VEVENT

END:VCALENDAR
