BEGIN:VCALENDAR
VERSION:2.0
PRODID:-//ChamberMaster//Event Calendar 2.0//EN
METHOD:PUBLISH
X-PUBLISHED-TTL:P3D
REFRESH-INTERVAL:P3D
CALSCALE:GREGORIAN
BEGIN:VEVENT
DTSTART:20161113T140000Z
DTEND:20161113T180000Z
X-MICROSOFT-CDO-ALLDAYEVENT:FALSE
SUMMARY:Lampworking: Adding Depth and Encasing to Glass Beads with Renee Kingsley. #928-1113.
DESCRIPTION:Looking for depth and interest in your beads? Add a layer of clear glass to get the depth and interest you are looking for in your bead designs. In this class students will learn various methods of adding an encasing layer of glass to beads. Altering the look and design of the base bead through heat control and glass movement will be covered and explored. Previous lamp work experience required.
X-ALT-DESC;FMTTYPE=text/html:<pre>\n<span style="color:black"><span style="font-family:arial\,sans-serif"><span style="font-size:12.0pt">Looking for depth and interest in your beads? Add a layer of clear glass to get the depth and interest you are looking for in your bead designs. In this class students will learn various methods of adding an encasing layer of glass to beads. Altering the look and design of the base bead through heat control and glass movement will be covered and explored. Previous lamp work experience required.</span></span></span></pre>\n
LOCATION:Adirondack Folk School 51 Main Street Lake Luzerne\, NY 12846
UID:e.2254.17012
SEQUENCE:3
DTSTAMP:20260420T201002Z
URL:https://chamber.saratoga.org/events/details/lampworking-adding-depth-and-encasing-to-glass-beads-with-renee-kingsley-928-1113-11-13-2016-17012
END:VEVENT

END:VCALENDAR
