BEGIN:VCALENDAR
VERSION:2.0
PRODID:-//ChamberMaster//Event Calendar 2.0//EN
METHOD:PUBLISH
X-PUBLISHED-TTL:P3D
REFRESH-INTERVAL:P3D
CALSCALE:GREGORIAN
BEGIN:VEVENT
DTSTART:20150312T220000Z
DTEND:20150313T010000Z
X-MICROSOFT-CDO-ALLDAYEVENT:FALSE
SUMMARY:Lamb + Libation Dinner Pairing
DESCRIPTION:Wild Icelandic Lamb and Libation Dinner Pairing 5 courses with 5 paired cocktails 6pm start time Howard Room at Saratoga National $65.00++/ pp
X-ALT-DESC;FMTTYPE=text/html:Wild Icelandic Lamb and Libation Dinner Pairing 5 courses with 5 paired cocktails 6pm start time Howard Room at Saratoga National $65.00++/ pp
LOCATION:Saratoga National Golf Club | 458 Union Avenue\, Saratoga Springs\, NY 12866
UID:e.2254.6111
SEQUENCE:3
DTSTAMP:20260423T212101Z
URL:https://chamber.saratoga.org/events/details/lamb-libation-dinner-pairing-03-12-2015-6111
END:VEVENT

END:VCALENDAR
