BEGIN:VCALENDAR
VERSION:2.0
PRODID:-//ChamberMaster//Event Calendar 2.0//EN
METHOD:PUBLISH
X-PUBLISHED-TTL:P3D
REFRESH-INTERVAL:P3D
CALSCALE:GREGORIAN
BEGIN:VEVENT
DTSTART;VALUE=DATE:20160925
DTEND;VALUE=DATE:20160926
TRANSP:TRANSPARENT
X-MICROSOFT-CDO-ALLDAYEVENT:TRUE
SUMMARY:Lakeside Farm Antqiues Show
DESCRIPTION:A premiere Antique show with 60+ vendors featuring a full range of antiques including primitives\, folk art\, quilts and linens\, jewelry\, art work\, china and glass\, toys\, collectibles\, music and records\, vintage\, steampunk and funky. Dealers inside and outside. Delicious Food Available at the Lake Side Farm Store and Restaurant.
X-ALT-DESC;FMTTYPE=text/html:A premiere Antique show with 60+ vendors featuring a full range of antiques including primitives\, folk art\, quilts and linens\, jewelry\, art work\, china and glass\, toys\, collectibles\, music and records\, vintage\, steampunk and funky. Dealers inside and outside. Delicious Food Available at the Lake Side Farm Store and Restaurant.
LOCATION:Lakeside Farm Junction of Lake Road and Shauber Road\, Ballston Lake\, NY
UID:e.2254.19477
SEQUENCE:3
DTSTAMP:20260421T003937Z
URL:https://chamber.saratoga.org/events/details/lakeside-farm-antqiues-show-19477
END:VEVENT

END:VCALENDAR
