BEGIN:VCALENDAR
VERSION:2.0
PRODID:-//ChamberMaster//Event Calendar 2.0//EN
METHOD:PUBLISH
X-PUBLISHED-TTL:P3D
REFRESH-INTERVAL:P3D
CALSCALE:GREGORIAN
BEGIN:VEVENT
DTSTART:20140928T110000Z
DTEND:20140928T180000Z
X-MICROSOFT-CDO-ALLDAYEVENT:FALSE
SUMMARY:Lakeside Farm Antiques Show - 09/28/2014
DESCRIPTION:15th Annual Lakeside Farm Antqiues Show - Sunday\, September 28th15th Annual Antique show with 60 vendors\, featuring a full range of antiques including primitives\, folk art\, quilts\, linens and textiles\, jewelry\, art work\, china and glass\, toys and collectibles.  Dealers inside and outside.  Delicious Food Available at the Lake Side Farm Store and Restaurant.Free Admission\, Sunday\, September 28th from 9:00 a.m. to 4:00 p.m.Lakeside Farm at Lake Road\, junction of Round Lake Road & Schauber Road\, Ballston Lake\, NY 12019.  Northway 87\, Exit 11\, 3 miles west on Round Lake Road.
X-ALT-DESC;FMTTYPE=text/html:<p>15th Annual Lakeside Farm Antqiues Show - Sunday\, September 28th</p><p>15th Annual Antique show with 60 vendors\,&nbsp\;featuring a full range of antiques including primitives\, folk art\, quilts\, linens and textiles\, jewelry\, art work\, china and glass\, toys and collectibles.&nbsp\; Dealers inside and outside.&nbsp\; Delicious Food Available at the Lake Side Farm Store and Restaurant.</p><p>Free Admission\, Sunday\, September 28th from 9:00 a.m. to 4:00 p.m.</p><p>Lakeside Farm at Lake Road\, junction of Round Lake Road &amp\; Schauber Road\, Ballston Lake\, NY 12019.&nbsp\; Northway 87\, Exit 11\, 3 miles west on Round Lake Road.&nbsp\; </p>
LOCATION:Lakeside Farm
UID:e.2254.3582
SEQUENCE:3
DTSTAMP:20260424T110924Z
URL:https://chamber.saratoga.org/events/details/lakeside-farm-antiques-show-09-28-2014-09-28-2014-3582
END:VEVENT

END:VCALENDAR
