BEGIN:VCALENDAR
VERSION:2.0
PRODID:-//ChamberMaster//Event Calendar 2.0//EN
METHOD:PUBLISH
X-PUBLISHED-TTL:P3D
REFRESH-INTERVAL:P3D
CALSCALE:GREGORIAN
BEGIN:VEVENT
DTSTART:20150827T220000Z
DTEND:20150827T233000Z
X-MICROSOFT-CDO-ALLDAYEVENT:FALSE
SUMMARY:Ladies Night at iRun LOCAL
DESCRIPTION:Join some friends for Ladies Night at iRun LOCAL. Shop the latest Oiselle fall collections. Moxie Swap will be collecting your new or slightly used clothing to support their non-profit focus\, Wellspring. Bring a donation and be entered to win our GRAND PRIZE basket! Free juice samples from Clarity Juice by Syd and Chair massages by All Good Things. Special in store discounts of 10-40%!
X-ALT-DESC;FMTTYPE=text/html:Join some friends for Ladies Night at iRun LOCAL. Shop the latest Oiselle fall collections. Moxie Swap will be collecting your new or slightly used clothing to support their non-profit focus\, Wellspring. Bring a donation and be entered to win our GRAND PRIZE basket! Free juice samples from Clarity Juice by Syd and Chair massages by All Good Things. Special in store discounts of 10-40%!
LOCATION:iRun LOCAL 18 Congress St Saratoga Springs\, NY 12866
UID:e.2254.10200
SEQUENCE:3
DTSTAMP:20260423T023930Z
URL:https://chamber.saratoga.org/events/details/ladies-night-at-irun-local-08-27-2015-10200
END:VEVENT

END:VCALENDAR
