BEGIN:VCALENDAR
VERSION:2.0
PRODID:-//ChamberMaster//Event Calendar 2.0//EN
METHOD:PUBLISH
X-PUBLISHED-TTL:P3D
REFRESH-INTERVAL:P3D
CALSCALE:GREGORIAN
BEGIN:VEVENT
DTSTART:20150702T233000Z
DTEND:20150727T023000Z
X-MICROSOFT-CDO-ALLDAYEVENT:FALSE
SUMMARY:La Cenerentola
DESCRIPTION:Opera Saratoga opens the 2015 Summer Season with Rossini's beloved version of Cinderella. Based on Perrault's timeless fairytale\, La Cenerentola features plenty of magical enchantment\; the ridiculous\, over-the-top situations and toe-tapping melodies that you expect from the master of comic Italian opera\; and heartfelt emotion to bring together this story of forgiveness and true love. The ultimate rags-to-riches tale\, it's a Cinderella story... but not quite as you may know it! Opera Saratoga is proud to present the company debuts of five extraordinary singers in La Cenerentola: Metropolitan Opera mezzo-soprano Sandra Piques Eddy sings the virtuoso title role alongside tenor Andrew Owens as Prince Ramiro\, baritone John Brancy as his valet Dandini\, David Kravitz as her wicked step-father Don Magnifico\, and Ryan Kuster as the mysterious philosopher Alidoro. Gary Thor Wedow also makes his company debut conducting this new production by Artistic and General director Lawrence Edelson.
X-ALT-DESC;FMTTYPE=text/html:<p>Opera Saratoga opens the 2015 Summer Season with Rossini&rsquo\;s beloved version of <em>Cinderella</em>. Based on Perrault&rsquo\;s timeless fairytale\, <em>La Cenerentola</em> features plenty of magical enchantment\; the ridiculous\, over-the-top situations and toe-tapping melodies that you expect from the master of comic Italian opera\; and heartfelt emotion to bring together this story of forgiveness and true love. The ultimate rags-to-riches tale\, it&#39\;s a Cinderella story... but not quite as you may know it! Opera Saratoga is proud to present the company debuts of five extraordinary singers in <em>La Cenerentola</em>: Metropolitan Opera mezzo-soprano <strong>Sandra Piques Eddy</strong> sings the virtuoso title role alongside tenor <strong>Andrew Owens</strong> as Prince Ramiro\, baritone <strong>John Brancy</strong> as his valet Dandini\, <strong>David Kravitz </strong>as her wicked step-father Don Magnifico\, and<strong> Ryan Kuster </strong>as the mysterious philosopher Alidoro<strong>. Gary Thor Wedow</strong> also makes his company debut conducting this new production by Artistic and General director <strong>Lawrence Edelson</strong>.</p>\n
LOCATION:Spa Little Theater\, 21 Roosevelt Drive
UID:e.2254.6923
SEQUENCE:3
DTSTAMP:20260423T040546Z
URL:https://chamber.saratoga.org/events/details/la-cenerentola-07-02-2015-6923
END:VEVENT

END:VCALENDAR
