BEGIN:VCALENDAR
VERSION:2.0
PRODID:-//ChamberMaster//Event Calendar 2.0//EN
METHOD:PUBLISH
X-PUBLISHED-TTL:P3D
REFRESH-INTERVAL:P3D
CALSCALE:GREGORIAN
BEGIN:VEVENT
DTSTART:20150418T000000Z
DTEND:20150418T020000Z
X-MICROSOFT-CDO-ALLDAYEVENT:FALSE
SUMMARY:Kuroda Lecture
DESCRIPTION:Kuroda Lecture: "Designing Histories of Slavery for the Age of the Database\," by Vincent Brown\, Charles Warren Professor of History\, Professor of African and African American Studies and Director of the History Design Studio at Harvard University. 8 p.m.-Gannett Auditorium For more information call 518-580-5261
X-ALT-DESC;FMTTYPE=text/html:Kuroda Lecture: &quot\;Designing Histories of Slavery for the Age of the Database\,&quot\; by Vincent Brown\, Charles Warren Professor of History\, Professor of African and African American Studies and Director of the History Design Studio at Harvard University. 8 p.m.-Gannett Auditorium For more information call 518-580-5261
LOCATION:Skidmore College\, Gannett Auditorium 815 N. Broadway Saratoga Springs\, NY 12866
UID:e.2254.7724
SEQUENCE:3
DTSTAMP:20260423T180532Z
URL:https://chamber.saratoga.org/events/details/kuroda-lecture-04-17-2015-7724
END:VEVENT

END:VCALENDAR
