BEGIN:VCALENDAR
VERSION:2.0
PRODID:-//ChamberMaster//Event Calendar 2.0//EN
METHOD:PUBLISH
X-PUBLISHED-TTL:P3D
REFRESH-INTERVAL:P3D
CALSCALE:GREGORIAN
BEGIN:VEVENT
DTSTART:20161022T130000Z
DTEND:20161022T170000Z
X-MICROSOFT-CDO-ALLDAYEVENT:FALSE
SUMMARY:KT Kids Consignment Sale
DESCRIPTION:KT KIDS FALL CONSIGNMENT SALE Saturday\, October 22nd: 9:00 am- 1:00 pm (HALF PRICE SALE) We have everything you are looking for in children's clothing from sizes infant-size 12. We have books\, games\, toys\, baby gear\, Halloween Costumes\, furniture and so much more. We are now accepting all major credit cards Proceeds from the sale benefit Katrina Trask Nursery School!
X-ALT-DESC;FMTTYPE=text/html:KT KIDS FALL CONSIGNMENT SALE Saturday\, October 22nd: 9:00 am- 1:00 pm (HALF PRICE SALE) We have everything you are looking for in children&#39\;s clothing from sizes infant-size 12. We have books\, games\, toys\, baby gear\, Halloween Costumes\, furniture and so much more. We are now accepting all major credit cards Proceeds from the sale benefit Katrina Trask Nursery School!
LOCATION:American Legion 34 West Avenue Saratoga Springs \,NY 12866
UID:e.2254.20778
SEQUENCE:3
DTSTAMP:20260420T231225Z
URL:https://chamber.saratoga.org/events/details/kt-kids-consignment-sale-10-22-2016-20778
END:VEVENT

END:VCALENDAR
