BEGIN:VCALENDAR
VERSION:2.0
PRODID:-//ChamberMaster//Event Calendar 2.0//EN
METHOD:PUBLISH
X-PUBLISHED-TTL:P3D
REFRESH-INTERVAL:P3D
CALSCALE:GREGORIAN
BEGIN:VEVENT
DTSTART:20160415T190000Z
DTEND:20160416T000000Z
X-MICROSOFT-CDO-ALLDAYEVENT:FALSE
SUMMARY:KT KIDS Consignment Sale
DESCRIPTION:KT Nursery School will host its 22nd KIDS Consignment Sale on April 15th & 16th at the American Legion on West Avenue in Saratoga Springs\, NY. Items for sale include Children's Spring/Summer clothing (sizes infant to size 12)\, Kids gear (car seats\, strollers\, high chairs\, etc.)\, Furniture (cribs\, toddler beds\, changing tables\, etc.)\, Kids sports equipment\, Tricycles/Bikes and small play equipment\, Toys\, Puzzles and Games\, Kids Books and DVDs\, and Maternity and nursing wear. Shop early before the sale is open to the public! Presale is on Friday\, April 15th from 12pm-3pm. Presale passes are $10.00 each and can be purchased at the door! Half- Price Sale is on Saturday\, April 16th from 9am-1pm and is open to the public. Proceeds from the sale will benefit Katrina Trask Nursery School\, a non- profit organization. Katrina Trask Nursery School is located at 24 Circular Street\, Saratoga Springs\, NY.
X-ALT-DESC;FMTTYPE=text/html:KT Nursery School will host its 22nd KIDS Consignment Sale on April 15th &amp\; 16th at the American Legion on West Avenue in Saratoga Springs\, NY. Items for sale include Children&#39\;s Spring/Summer clothing (sizes infant to size 12)\, Kids gear (car seats\, strollers\, high chairs\, etc.)\, Furniture (cribs\, toddler beds\, changing tables\, etc.)\, Kids sports equipment\, Tricycles/Bikes and small play equipment\, Toys\, Puzzles and Games\, Kids Books and DVDs\, and Maternity and nursing wear. Shop early before the sale is open to the public! Presale is on Friday\, April 15th from 12pm-3pm. Presale passes are $10.00 each and can be purchased at the door! Half- Price Sale is on Saturday\, April 16th from 9am-1pm and is open to the public. Proceeds from the sale will benefit Katrina Trask Nursery School\, a non- profit organization. Katrina Trask Nursery School is located at 24 Circular Street\, Saratoga Springs\, NY.
LOCATION:The American Legion\, 34 West Avenue\, Saratoga Springs\, NY.
UID:e.2254.15563
SEQUENCE:3
DTSTAMP:20260421T163725Z
URL:https://chamber.saratoga.org/events/details/kt-kids-consignment-sale-04-15-2016-15563
END:VEVENT

END:VCALENDAR
