BEGIN:VCALENDAR
VERSION:2.0
PRODID:-//ChamberMaster//Event Calendar 2.0//EN
METHOD:PUBLISH
X-PUBLISHED-TTL:P3D
REFRESH-INTERVAL:P3D
CALSCALE:GREGORIAN
BEGIN:VEVENT
DTSTART:20150321T153000Z
DTEND:20150321T170000Z
X-MICROSOFT-CDO-ALLDAYEVENT:FALSE
SUMMARY:Kids Pizza-Making Class at Forno Bistro
DESCRIPTION:A Children's Pizza-Making Class is being held 11:30 a.m. to 1 p.m. Saturday\, March 21 at Forno Bistro in Saratoga Springs. Kids ages 6 to 13 may attend alone\, but those age 5 and younger must be accompanied by an adult. Participants will learn how to stretch dough\, make their own pizzas with a variety of toppings and watch them cook in Forno Bistro's iconic wood-fired oven. Each child will receive a pizza making certificate and a special gift from the chefs of Forno Bistro.
X-ALT-DESC;FMTTYPE=text/html:A Children&#39\;s Pizza-Making Class is being held 11:30 a.m. to 1 p.m. Saturday\, March 21 at Forno Bistro in Saratoga Springs. Kids ages 6 to 13 may attend alone\, but those age 5 and younger must be accompanied by an adult. Participants will learn how to stretch dough\, make their own pizzas with a variety of toppings and watch them cook in Forno Bistro&#39\;s iconic wood-fired oven. Each child will receive a pizza making certificate and a special gift from the chefs of Forno Bistro.
LOCATION:541 Broadway Saratoga Springs\, NY 12866
UID:e.2254.6150
SEQUENCE:3
DTSTAMP:20260423T214702Z
URL:https://chamber.saratoga.org/events/details/kids-pizza-making-class-at-forno-bistro-03-21-2015-6150
END:VEVENT

END:VCALENDAR
