BEGIN:VCALENDAR
VERSION:2.0
PRODID:-//ChamberMaster//Event Calendar 2.0//EN
METHOD:PUBLISH
X-PUBLISHED-TTL:P3D
REFRESH-INTERVAL:P3D
CALSCALE:GREGORIAN
BEGIN:VEVENT
DTSTART:20150720T223000Z
DTEND:20150720T233000Z
X-MICROSOFT-CDO-ALLDAYEVENT:FALSE
SUMMARY:Kettlebell Fitness
DESCRIPTION:Kettlebells with Deb:   4/6-6/15 (Mondays) 6:30pm-7:30pm \n\n Location: Starts at Locust Lane Club & then Grooms Road Tavern\n\nFind out what this new fitness trend is all about!  Kettlebells is a cardiovascular and strength training workout all in one.  You will learn how to properly use a kettlebell weight to get the most out of your time spent working out.  Work multiple muscles\, quickly\, efficiently\, and see your body transform. \n\nPre-register at http://www.cliftonpark.org/townhall/parks-recreation-and-community-affairs/
X-ALT-DESC;FMTTYPE=text/html:<span style="font-family: times new roman\;"><strong><u><span style="font-size: 14pt\;">Kettlebells with Deb:</span></u></strong><span style="font-size: 14pt\;">&nbsp\; &nbsp\;</span><span style="font-size: 12pt\;">4/6-6/15 (Mondays) 6:30pm-7:30pm </span></span><br />\n<span style="font-size: 12pt\;"><span style="font-family: times new roman\;">&nbsp\;<strong><u>Location:</u></strong> Starts at Locust Lane Club &amp\; then Grooms Road Tavern</span></span><br />\n<span style="font-size: 12pt\;"><span style="font-family: times new roman\;">Find out what this new fitness trend is all about!&nbsp\; Kettlebells is a cardiovascular and strength training workout all in one.&nbsp\; You will learn how to properly use a kettlebell weight to get the most out of your time spent working out.&nbsp\; Work multiple muscles\, quickly\, efficiently\, and see your body transform. </span></span><br />\n<strong><span style="font-size: 12pt\;"><span style="font-family: times new roman\;">Pre-register at http://www.cliftonpark.org/townhall/parks-recreation-and-community-affairs/</span></span></strong><br />\n&nbsp\;
LOCATION:Locust Lane Clubhouse
UID:e.2254.6978
SEQUENCE:3
DTSTAMP:20260423T041141Z
URL:https://chamber.saratoga.org/events/details/kettlebell-fitness-07-20-2015-6978
END:VEVENT

END:VCALENDAR
