BEGIN:VCALENDAR
VERSION:2.0
PRODID:-//ChamberMaster//Event Calendar 2.0//EN
METHOD:PUBLISH
X-PUBLISHED-TTL:P3D
REFRESH-INTERVAL:P3D
CALSCALE:GREGORIAN
BEGIN:VEVENT
DTSTART:20150628T170000Z
DTEND:20150628T180000Z
X-MICROSOFT-CDO-ALLDAYEVENT:FALSE
SUMMARY:Keeping Time in Grant's Time
DESCRIPTION:A presentation on 19th century horology featuring a display of original period time pieces from Grant's day and a discussion of the early American clock and watch industry. Included will be little known facts about time keeping on Mt. McGregor and observations about the iconic "Grant cottage" clock which was stopped at the time of Grant's death and why it is believed that it has never run since that fateful day in July 1885. Visitors will be able to view the innermost workings of 150 year old clocks and receive a tutorial on how they operate. Presented by Grant Cottage volunteer tour guide and horologist Stephen Betts.
X-ALT-DESC;FMTTYPE=text/html:A presentation on 19th century horology featuring a display of original period time pieces from Grant&#39\;s day and a discussion of the early American clock and watch industry. Included will be little known facts about time keeping on Mt. McGregor and observations about the iconic &quot\;Grant cottage&quot\; clock which was stopped at the time of Grant&#39\;s death&nbsp\;and why it is believed that it has never run since that fateful day in July 1885. Visitors will be able to view the innermost workings of 150 year old clocks and receive a tutorial on how they operate. Presented by Grant Cottage volunteer tour guide and horologist Stephen Betts.
LOCATION:Grant Cottage State Historic Site
UID:e.2254.5471
SEQUENCE:3
DTSTAMP:20260423T072220Z
URL:https://chamber.saratoga.org/events/details/keeping-time-in-grant-s-time-06-28-2015-5471
END:VEVENT

END:VCALENDAR
