BEGIN:VCALENDAR
VERSION:2.0
PRODID:-//ChamberMaster//Event Calendar 2.0//EN
METHOD:PUBLISH
X-PUBLISHED-TTL:P3D
REFRESH-INTERVAL:P3D
CALSCALE:GREGORIAN
BEGIN:VEVENT
DTSTART:20160615T150000Z
DTEND:20160615T160000Z
X-MICROSOFT-CDO-ALLDAYEVENT:FALSE
SUMMARY:Karner Blue Butterfly Walk
DESCRIPTION:The endangered Karner blue butterfly has two broods every summer. The first brood should emerge late in May and the next brood should emerge in early July. We will be looking for adults of the first brood that are searching for nectar and mates in the open pine/oak savannah meadows. The walk will depart from Old Gick Farm on route 50. Pre registration is strongly encouraged.
X-ALT-DESC;FMTTYPE=text/html:The endangered Karner blue butterfly has two broods every summer. The first brood should emerge late in May and the next brood should emerge in early July. We will be looking for adults of the first brood that are searching for nectar and mates in the open pine/oak savannah meadows. The walk will depart from Old Gick Farm on route 50. Pre&nbsp\;registration is strongly encouraged.
LOCATION:Old Gick Trailhead Rt 50 Gansevoort\, NY 12831
UID:e.2254.16667
SEQUENCE:3
DTSTAMP:20260421T093813Z
URL:https://chamber.saratoga.org/events/details/karner-blue-butterfly-walk-06-15-2016-16667
END:VEVENT

END:VCALENDAR
