BEGIN:VCALENDAR
VERSION:2.0
PRODID:-//ChamberMaster//Event Calendar 2.0//EN
METHOD:PUBLISH
X-PUBLISHED-TTL:P3D
REFRESH-INTERVAL:P3D
CALSCALE:GREGORIAN
BEGIN:VEVENT
DTSTART:20140925T220000Z
DTEND:20140926T000000Z
X-MICROSOFT-CDO-ALLDAYEVENT:FALSE
SUMMARY:Karen L. Coburn Lecture - 09/25/2014
DESCRIPTION:Karen L. Coburn Lecture"Transnational Feminist Dialogues on Neoliberalism and Radical Praxis" by Chandra Talpade Mohanty\, distinguished professor\, Department of Women's and Gender Studies\; and Dean's Professor of the Humanities at Syracuse University.  5:30 p.m.-Gannett Auditorium For more information call 518-580-5240
X-ALT-DESC;FMTTYPE=text/html:<p>Karen L. Coburn Lecture</p><p><span>"Transnational Feminist Dialogues on Neoliberalism and Radical Praxis" by Chandra Talpade Mohanty<strong></strong></span>\, distinguished professor\,&nbsp\;Department of Women's and Gender Studies\; and Dean's Professor of the Humanities at Syracuse University. </p> <p>5:30 p.m.-Gannett Auditorium</p> <span style="font-size: 12pt\; font-family: Times New Roman\,serif\;">For more information call 518-580-5240</span>
LOCATION:Gannett Auditorium\, Skidmore College
UID:e.2254.3544
SEQUENCE:3
DTSTAMP:20260424T110931Z
URL:https://chamber.saratoga.org/events/details/karen-l-coburn-lecture-09-25-2014-09-25-2014-3544
END:VEVENT

END:VCALENDAR
