BEGIN:VCALENDAR
VERSION:2.0
PRODID:-//ChamberMaster//Event Calendar 2.0//EN
METHOD:PUBLISH
X-PUBLISHED-TTL:P3D
REFRESH-INTERVAL:P3D
CALSCALE:GREGORIAN
BEGIN:VEVENT
DTSTART:20151114T230000Z
DTEND:20151115T030000Z
X-MICROSOFT-CDO-ALLDAYEVENT:FALSE
SUMMARY:Kaged Kombat
DESCRIPTION:Kaged Kombat FC is the Capital Region's premiere Mixed Martial Arts event\, holding regular 'amateur only' events in Saratoga Springs\, NY!\n\n \n\nVisit: facebook.com/standing8entertainment for more info!
X-ALT-DESC;FMTTYPE=text/html:<p>Kaged Kombat FC is the Capital Region&rsquo\;s premiere Mixed Martial Arts event\, holding regular &lsquo\;amateur only&rsquo\; events in Saratoga Springs\, NY!</p>\n\n<p>&nbsp\;</p>\n\n<p>Visit: facebook.com/standing8entertainment for more info!</p>\n
LOCATION:Saratoga City Center: 522 Broadway\, Saratoga Springs\, NY 12866
UID:e.2254.12631
SEQUENCE:3
DTSTAMP:20260422T103005Z
URL:https://chamber.saratoga.org/events/details/kaged-kombat-11-14-2015-12631
END:VEVENT

END:VCALENDAR
