BEGIN:VCALENDAR
VERSION:2.0
PRODID:-//ChamberMaster//Event Calendar 2.0//EN
METHOD:PUBLISH
X-PUBLISHED-TTL:P3D
REFRESH-INTERVAL:P3D
CALSCALE:GREGORIAN
BEGIN:VEVENT
DTSTART:20150811T000000Z
DTEND:20150811T030000Z
X-MICROSOFT-CDO-ALLDAYEVENT:FALSE
SUMMARY:Joe Bonamassa
DESCRIPTION:A Tribute to the Three Kings\n\nwww.livenation.com
X-ALT-DESC;FMTTYPE=text/html:A Tribute to the Three Kings<br />\nwww.livenation.com
LOCATION:Saratoga Performing Arts Center 108 Avenue of the Pines Saratoga Springs NY 12866
UID:e.2254.8723
SEQUENCE:3
DTSTAMP:20260423T022931Z
URL:https://chamber.saratoga.org/events/details/joe-bonamassa-08-10-2015-8723
END:VEVENT

END:VCALENDAR
