BEGIN:VCALENDAR
VERSION:2.0
PRODID:-//ChamberMaster//Event Calendar 2.0//EN
METHOD:PUBLISH
X-PUBLISHED-TTL:P3D
REFRESH-INTERVAL:P3D
CALSCALE:GREGORIAN
BEGIN:VEVENT
DTSTART:20161115T233000Z
DTEND:20161116T023000Z
X-MICROSOFT-CDO-ALLDAYEVENT:FALSE
SUMMARY:Italian Wine Feast
DESCRIPTION:Four-course meal featuring wines from Veneto\, Italy with Joe Armstrong of Winebow\, Inc. See Chef Brad's menu at http://www.longfellows.com/wp-content/uploads/2016/10/Nov-2016-wine-dinner-menu.pdf
X-ALT-DESC;FMTTYPE=text/html:Four-course meal featuring wines from Veneto\, Italy with Joe Armstrong of Winebow\, Inc. See Chef Brad&#39\;s menu at http://www.longfellows.com/wp-content/uploads/2016/10/Nov-2016-wine-dinner-menu.pdf
LOCATION:Longfellows Restaurant
UID:e.2254.21175
SEQUENCE:3
DTSTAMP:20260420T200546Z
URL:https://chamber.saratoga.org/events/details/italian-wine-feast-21175
END:VEVENT

END:VCALENDAR
