BEGIN:VCALENDAR
VERSION:2.0
PRODID:-//ChamberMaster//Event Calendar 2.0//EN
METHOD:PUBLISH
X-PUBLISHED-TTL:P3D
REFRESH-INTERVAL:P3D
CALSCALE:GREGORIAN
BEGIN:VEVENT
DTSTART:20150324T223000Z
DTEND:20150325T010000Z
X-MICROSOFT-CDO-ALLDAYEVENT:FALSE
SUMMARY:Italian Bread Making Class
DESCRIPTION:On March 24th channel your inner bread maker at Pasta Pane. In this fun and inspiring class\, Pasta Pane Chef James Frese will teach you the proper mixing\, kneading\, and baking techniques to make crispy\, crusty Italian Ciabatta Bread. Even if you have no prior experience making bread\, you will discover the joy of bread making while learning techniques for creating your own slice of outstanding rustic tastes and textures. Learn and taste also how bread can be the basis of many delicious traditional Italian dishes including Bruschetta\, Pappa al Pomodoro\, Panzanella Salad and Budino Bread Pudding.
X-ALT-DESC;FMTTYPE=text/html:On March 24th channel your inner bread maker at Pasta Pane. In this fun and inspiring class\, Pasta Pane Chef James Frese will teach you the proper mixing\, kneading\, and baking techniques to make crispy\, crusty Italian Ciabatta Bread. Even if you have no prior experience making bread\, you will&nbsp\;discover the joy of bread making while learning techniques for creating your own slice of outstanding rustic tastes and textures. Learn and taste also how bread can be the basis of many delicious traditional Italian dishes including Bruschetta\, Pappa al Pomodoro\, Panzanella Salad and Budino Bread Pudding.
LOCATION:Pasta Pane 18 Park Ave Clifton Park\, NY
UID:e.2254.6152
SEQUENCE:3
DTSTAMP:20260423T213843Z
URL:https://chamber.saratoga.org/events/details/italian-bread-making-class-03-24-2015-6152
END:VEVENT

END:VCALENDAR
