BEGIN:VCALENDAR
VERSION:2.0
PRODID:-//ChamberMaster//Event Calendar 2.0//EN
METHOD:PUBLISH
X-PUBLISHED-TTL:P3D
REFRESH-INTERVAL:P3D
CALSCALE:GREGORIAN
BEGIN:VEVENT
DTSTART:20160626T183000Z
DTEND:20160626T200000Z
X-MICROSOFT-CDO-ALLDAYEVENT:FALSE
SUMMARY:iRun Local Scavenger Hunt
DESCRIPTION:The Saratoga County Chamber of Commerce will team up with iRun Local to host a Health & Wellness Scavenger Hunt. You're invited to navigate through town and visit members from the Health & Wellness Council while collecting tickets\, which will enter you into a drawing to win raffle prizes.\n\n\n\nRegistration will take place from 2:30 to 3:00 p.m. at iRun Local\, followed by the scavenger hunt\, from 3:00 to 4:00 p.m. and will conclude with the raffle drawing at 4:00 back at iRun Local.
X-ALT-DESC;FMTTYPE=text/html:The Saratoga County Chamber of Commerce will team up with iRun Local to host a Health &amp\; Wellness Scavenger Hunt. You&#39\;re invited to navigate through town and visit members from the Health &amp\; Wellness Council&nbsp\;while collecting tickets\, which will enter you into a drawing to win raffle prizes.<br />\n<br />\nRegistration will take place from 2:30 to 3:00 p.m. at iRun Local\, followed by the scavenger hunt\, from 3:00 to 4:00 p.m. and will conclude with the raffle drawing at 4:00 back at iRun Local.
LOCATION:18 Congress Street\, Suite 3 Saratoga Springs\, NY 12866
UID:e.2254.16472
SEQUENCE:3
DTSTAMP:20260421T080613Z
URL:https://chamber.saratoga.org/events/details/irun-local-scavenger-hunt-06-26-2016-16472
END:VEVENT

END:VCALENDAR
