BEGIN:VCALENDAR
VERSION:2.0
PRODID:-//ChamberMaster//Event Calendar 2.0//EN
METHOD:PUBLISH
X-PUBLISHED-TTL:P3D
REFRESH-INTERVAL:P3D
CALSCALE:GREGORIAN
BEGIN:VEVENT
DTSTART:20150921T200000Z
DTEND:20150921T230000Z
X-MICROSOFT-CDO-ALLDAYEVENT:FALSE
SUMMARY:Iraqi Refugee Art Exhibit
DESCRIPTION:Reception for Art Exhibit of Iraqi Refugee Art presented by Mel Lehman from Common Humanity\, an organization seeking to build understanding\, respect and friendship with the Arab and Muslim world. Refreshments served and music provided by a Skidmore Trio.
X-ALT-DESC;FMTTYPE=text/html:Reception for Art Exhibit of Iraqi Refugee Art presented by Mel Lehman from Common Humanity\, an organization seeking to build understanding\, respect and friendship with the Arab and Muslim world. Refreshments served and music provided by a Skidmore Trio.
LOCATION:Saratoga Senior Center\, 5 Williams St
UID:e.2254.12335
SEQUENCE:3
DTSTAMP:20260423T005554Z
URL:https://chamber.saratoga.org/events/details/iraqi-refugee-art-exhibit-09-21-2015-12335
END:VEVENT

END:VCALENDAR
