BEGIN:VCALENDAR
VERSION:2.0
PRODID:-//ChamberMaster//Event Calendar 2.0//EN
METHOD:PUBLISH
X-PUBLISHED-TTL:P3D
REFRESH-INTERVAL:P3D
CALSCALE:GREGORIAN
BEGIN:VEVENT
DTSTART:20160424T130000Z
DTEND:20160424T160000Z
X-MICROSOFT-CDO-ALLDAYEVENT:FALSE
SUMMARY:Introduction to Woodturning with John Kingsley. #884-0424.
DESCRIPTION:To every season turn\, turn\, turn! This course is for people who have an interest in learning how to turn. The emphasis will be on learning how to use the lathe and tools safely and correctly. In this class you will learn the basics of creating spindle-based objects. Then you will use your new-found skills to create a candlestick and a wooden pen. Friends and family will be truly impressed! You'll need to take this class before moving on to the more advanced turning classes. Note: For your safety: no loose fitting clothes\, hair tied back\, comfortable shoes\, and no jewelry. If sensitive to wood dust registration for turning classes is not recommended.
X-ALT-DESC;FMTTYPE=text/html:To every season turn\, turn\, turn! This course is for people who have an interest in learning how to turn. The emphasis will be on learning how to use the lathe and tools safely and correctly. In this class you will learn the basics of creating spindle-based objects. Then you will use your new-found skills to create a candlestick and a wooden pen. Friends and family will be truly impressed! You&#39\;ll need to take this class before moving on to the more advanced turning classes. Note: For your safety: no loose fitting clothes\, hair tied back\, comfortable shoes\, and no jewelry. If sensitive to wood dust registration for turning classes is not recommended.
LOCATION:Adirondack Folk School\, 51 Main Street\, Lake Luzerne\, NY 12846
UID:e.2254.15006
SEQUENCE:3
DTSTAMP:20260421T164117Z
URL:https://chamber.saratoga.org/events/details/introduction-to-woodturning-with-john-kingsley-884-0424-04-24-2016-15006
END:VEVENT

END:VCALENDAR
