BEGIN:VCALENDAR
VERSION:2.0
PRODID:-//ChamberMaster//Event Calendar 2.0//EN
METHOD:PUBLISH
X-PUBLISHED-TTL:P3D
REFRESH-INTERVAL:P3D
CALSCALE:GREGORIAN
BEGIN:VEVENT
DTSTART:20160716T140000Z
DTEND:20160716T203000Z
X-MICROSOFT-CDO-ALLDAYEVENT:FALSE
SUMMARY:Introduction to Bookbinding with Robert Walp. #906-0717.
DESCRIPTION:Come discover an ancient art form that will give you a greater appreciation for how books were made long ago. In this class you will learn the basic skills needed to make bindings for albums\, journals or other book-arts projects. Moving from simple to complex bookbindings\, you will create several books that will help you develop skills in tearing\, folding\, sewing\, and gluing both paper and hardcover bindings. Emphasis will be on good craft techniques and working in harmony with materials and their different properties. A fun class for both men and women.\n\n\nLOCATION:   This Adirondack Folk School class is held at Chester Creek Press\, 29 Pine Knolls Road\, Chestertown\, NY 12817
X-ALT-DESC;FMTTYPE=text/html:<pre>\n<span style="font-size:12pt"><span style="font-family:arial\,sans-serif"><span style="color:black">Come discover an ancient art form that will give you a greater appreciation for how books were made long ago. In this class you will learn the basic skills needed to make bindings for albums\, journals or other book-arts projects. Moving from simple to complex bookbindings\, you will create several books that will help you develop skills in tearing\, folding\, sewing\, and gluing both paper and hardcover bindings. Emphasis will be on good craft techniques and working in harmony with materials and their different properties. A fun class for both men and women.</span></span></span></pre>\n\n<pre>\n<strong><span style="font-size:12pt"><span style="font-family:arial\,sans-serif"><span style="color:black">LOCATION:&nbsp\;&nbsp\; This Adirondack Folk School class is held at Chester Creek Press\, 29 Pine Knolls Road\, Chestertown\, NY 12817 </span></span></span></strong></pre>\n
LOCATION:Chester Creek Press\, 29 Pine Knolls Road\, Chestertown\, NY 12817
UID:e.2254.15625
SEQUENCE:3
DTSTAMP:20260421T062709Z
URL:https://chamber.saratoga.org/events/details/introduction-to-bookbinding-with-robert-walp-906-0717-07-16-2016-15625
END:VEVENT

END:VCALENDAR
