BEGIN:VCALENDAR
VERSION:2.0
PRODID:-//ChamberMaster//Event Calendar 2.0//EN
METHOD:PUBLISH
X-PUBLISHED-TTL:P3D
REFRESH-INTERVAL:P3D
CALSCALE:GREGORIAN
BEGIN:VEVENT
DTSTART:20160910T130000Z
DTEND:20160911T200000Z
X-MICROSOFT-CDO-ALLDAYEVENT:FALSE
SUMMARY:Introduction to Bladesmithing with Matthew Parkinson. #904-0910. 2 days\, September 10&11
DESCRIPTION:Students can expect to forge and finish one 4-6" blade antler handled hunting knife. Topics covered will be working with high carbon steels\, knife design\, forging a blade to shape\, grinding\, finishing\, heat treating\, fitting a guard and attaching a handle. This class is intended as an introductory bladesmithing class but some forging experience is helpful.\n\n\nNOTE:  Hard shoes and long pants are required for student's safety.
X-ALT-DESC;FMTTYPE=text/html:<pre>\n<span style="font-size:12pt"><span style="font-family:arial\,sans-serif"><span style="color:black">Students can expect to forge and finish one 4-6&quot\; blade antler handled hunting knife. Topics covered will be working with high carbon steels\, knife design\, forging a blade to shape\, grinding\, finishing\, heat treating\, fitting a guard and attaching a handle. This class is intended as an introductory bladesmithing class but some forging experience is helpful.</span></span></span></pre>\n\n<pre>\n<strong><span style="font-size:12pt"><span style="font-family:arial\,sans-serif"><span style="color:black">NOTE:&nbsp\; Hard shoes and long pants are required for student&rsquo\;s safety.</span></span></span></strong></pre>\n
LOCATION:Adirondack Folk School 51 Main Street Lake Luzerne\, NY 12846
UID:e.2254.16417
SEQUENCE:3
DTSTAMP:20260421T010928Z
URL:https://chamber.saratoga.org/events/details/introduction-to-bladesmithing-with-matthew-parkinson-904-0910-2-days-september-10-11-09-10-2016-16417
END:VEVENT

END:VCALENDAR
