BEGIN:VCALENDAR
VERSION:2.0
PRODID:-//ChamberMaster//Event Calendar 2.0//EN
METHOD:PUBLISH
X-PUBLISHED-TTL:P3D
REFRESH-INTERVAL:P3D
CALSCALE:GREGORIAN
BEGIN:VEVENT
DTSTART:20150803T123000Z
DTEND:20150807T190000Z
X-MICROSOFT-CDO-ALLDAYEVENT:FALSE
SUMMARY:International Summer Camp - Australia
DESCRIPTION:Welcome to International Summer  Australia! Pack your suitcases\, we are going to explore around the world in 8 weeks. Students will receive a passport and create a suitcase where they will store their memories from the journey. Kids will become explores and each week learn about a new country its language\, food\, culture\, and music. Activities include creating and sampling the country?s food\, learning about artist and creating art pieces\, and fun games. We'll cover the following countries: Italy\, France\, China\, Madagascar\, Australia\, Mexico\, India and Spain Age Group: 3 years old 4 years old 5 years old 6 - 9 years old 10 - 12 years old Class Size: 3 y/o group: 15 children All other age groups: 21 children Pricing: $ 120 Schedule: Monday to Friday: From 8:30 AM to 3:00 PM Sessions: Week 5: Aug. 3rd - Aug. 7th Morning Care ($20 per week) 7:30 AM to 8:30 AM and After Care ($40 per week) 3:00 PM to 6:00 PM Registration: http://thegeniusplaza.com/international-summer-australia/ Phone: 518.280.9550
X-ALT-DESC;FMTTYPE=text/html:Welcome to International Summer&nbsp\; Australia! Pack your suitcases\, we are going to explore around the world in 8 weeks. Students will receive a passport and create a suitcase where they will store their memories from the journey. Kids will become explores and each week learn about a new country its language\, food\, culture\, and music. Activities include creating and sampling the country?s food\, learning about artist and creating art pieces\, and fun games. We&#39\;ll cover the following countries: Italy\, France\, China\, Madagascar\, Australia\, Mexico\, India and Spain Age Group: 3 years old 4 years old 5 years old 6 - 9 years old 10 - 12 years old Class Size: 3 y/o group: 15 children All other age groups: 21 children Pricing: $ 120 Schedule: Monday to Friday: From 8:30 AM to 3:00 PM Sessions: Week 5: Aug. 3rd - Aug. 7th Morning Care ($20 per week) 7:30 AM&nbsp\;to 8:30 AM and After Care ($40 per week) 3:00 PM&nbsp\;to 6:00 PM Registration: http://thegeniusplaza.com/international-summer-australia/ Phone: 518.280.9550
LOCATION:The Genius Plaza - 511 Moe Road\, Clifton Park\, NY 12065
UID:e.2254.7630
SEQUENCE:3
DTSTAMP:20260423T023751Z
URL:https://chamber.saratoga.org/events/details/international-summer-camp-australia-08-03-2015-7630
END:VEVENT

END:VCALENDAR
