BEGIN:VCALENDAR
VERSION:2.0
PRODID:-//ChamberMaster//Event Calendar 2.0//EN
METHOD:PUBLISH
X-PUBLISHED-TTL:P3D
REFRESH-INTERVAL:P3D
CALSCALE:GREGORIAN
BEGIN:VEVENT
DTSTART:20160630T130000Z
DTEND:20160630T210000Z
X-MICROSOFT-CDO-ALLDAYEVENT:FALSE
SUMMARY:International Asteroid Day
DESCRIPTION:Join the Dudley Observatory and miSci for a fun-filled day all about asteroids! Tour the galleries\, see a planetarium show\, and participate in space-themed hands-on activities. Great for all ages!
X-ALT-DESC;FMTTYPE=text/html:Join the Dudley Observatory and miSci for a fun-filled day all about asteroids! Tour the galleries\, see a planetarium show\, and participate in space-themed hands-on activities. Great for all ages!
LOCATION:miSci (Museum of Innovation and Science) 15 Nott Terrace Heights Schenectady\, NY 12308
UID:e.2254.17108
SEQUENCE:3
DTSTAMP:20260421T105827Z
URL:https://chamber.saratoga.org/events/details/international-asteroid-day-06-30-2016-17108
END:VEVENT

END:VCALENDAR
