BEGIN:VCALENDAR
VERSION:2.0
PRODID:-//ChamberMaster//Event Calendar 2.0//EN
METHOD:PUBLISH
X-PUBLISHED-TTL:P3D
REFRESH-INTERVAL:P3D
CALSCALE:GREGORIAN
BEGIN:VEVENT
DTSTART:20161118T180000Z
DTEND:20161118T200000Z
X-MICROSOFT-CDO-ALLDAYEVENT:FALSE
SUMMARY:Inside the Hyde: SUNY Continuing Education Program
DESCRIPTION:Tour the Artists of the Mohawk Hudson Region exhibition with Museum Educator Jenny Hutchinson. Learn and discuss the artwork over refreshments.\n\n1 to 3 pm | $15 to attend\; Register through SUNY Adirondack by calling 518-743-2238
X-ALT-DESC;FMTTYPE=text/html:<p><span style="font-size:12pt">Tour the Artists of the Mohawk Hudson Region exhibition with Museum Educator Jenny Hutchinson. Learn and discuss the artwork over refreshments.</span></p>\n\n<p><span style="font-size:12pt">1 to 3 pm | $15 to attend\; Register through SUNY Adirondack by calling 518-743-2238</span></p>\n
LOCATION:The Hyde Collection 161 Warren Street Glens Falls\, NY 12801
UID:e.2254.21104
SEQUENCE:3
DTSTAMP:20260420T200454Z
URL:https://chamber.saratoga.org/events/details/inside-the-hyde-suny-continuing-education-program-21104
END:VEVENT

END:VCALENDAR
