BEGIN:VCALENDAR
VERSION:2.0
PRODID:-//ChamberMaster//Event Calendar 2.0//EN
METHOD:PUBLISH
X-PUBLISHED-TTL:P3D
REFRESH-INTERVAL:P3D
CALSCALE:GREGORIAN
BEGIN:VEVENT
DTSTART:20160922T220000Z
DTEND:20160923T010000Z
X-MICROSOFT-CDO-ALLDAYEVENT:FALSE
SUMMARY:Infant CPR and Safety
DESCRIPTION:Do you know how to help keep your infant safe in an emergency?\n\nParents and caregivers are invited to join us for instructional infant CPR\, basic First Aid\, as well as car seat safety for infants and small children. Please note that this class is NOT a CPR certification course\, but an awareness training to teach the skills necessary to aid an infant or child in an emergency. You will learn how to perform CPR and administer first aid until help arrives. Car seat safety will be taught by a nationally certified CPS instructor.\n\nRegistration note: Please register each adult that plans to attend\, fee is per person.
X-ALT-DESC;FMTTYPE=text/html:<p>Do you know how to help keep your infant safe in an emergency?</p>\n\n<p>Parents and caregivers are invited to join us for instructional infant CPR\, basic First Aid\, as well as car seat safety for infants and small children. Please note that this class is NOT a CPR certification course\, but an awareness training to teach the skills necessary to aid an infant or child in an emergency. You will learn how to perform CPR and administer first aid until help arrives. Car seat safety will be taught by a nationally certified CPS instructor.</p>\n\n<p><em><strong>Registration note:</strong> Please register each adult that plans to attend\, fee is per person.</em></p>\n
LOCATION:Saratoga Hospital 59D Myrtle Street Park\, Classroom 2A
UID:e.2254.18609
SEQUENCE:3
DTSTAMP:20260421T003944Z
URL:https://chamber.saratoga.org/events/details/infant-cpr-and-safety-09-22-2016-18609
END:VEVENT

END:VCALENDAR
