BEGIN:VCALENDAR
VERSION:2.0
PRODID:-//ChamberMaster//Event Calendar 2.0//EN
METHOD:PUBLISH
X-PUBLISHED-TTL:P3D
REFRESH-INTERVAL:P3D
CALSCALE:GREGORIAN
BEGIN:VEVENT
DTSTART:20150315T173000Z
DTEND:20150315T063000Z
X-MICROSOFT-CDO-ALLDAYEVENT:FALSE
SUMMARY:In Their Own Words: Women in the Revolution
DESCRIPTION:Explore the lives of women who lived during the American Revolutionary War through their stories and excerpts from letters and diaries.  How did events around these women affect them? What did they find important to document in their daily lives?  How did they deal with life's challenges? Join us for a nice cup of tea and find out.  Snow date: Sunday\, March  22
X-ALT-DESC;FMTTYPE=text/html:<p><span style="font-size: 10pt\; line-height: 115%\; font-family: Georgia\, serif\;">Explore the lives of women who lived during the American Revolutionary War through their stories and excerpts from letters and diaries.&nbsp\; How did events around these women affect them? What did they find important to document in their daily lives?&nbsp\; How did they deal with life&rsquo\;s challenges? Join us for a nice cup of tea and find out.&nbsp\; </span><em><span style="font-size: 10pt\; line-height: 115%\; font-family: Georgia\, serif\;">Snow date: Sunday\, March&nbsp\; 22</span></em></p>
LOCATION:Saratoga National Historical Park
UID:e.2254.4916
SEQUENCE:3
DTSTAMP:20260423T232056Z
URL:https://chamber.saratoga.org/events/details/in-their-own-words-women-in-the-revolution-03-15-2015-4916
END:VEVENT

END:VCALENDAR
