BEGIN:VCALENDAR
VERSION:2.0
PRODID:-//ChamberMaster//Event Calendar 2.0//EN
METHOD:PUBLISH
X-PUBLISHED-TTL:P3D
REFRESH-INTERVAL:P3D
CALSCALE:GREGORIAN
BEGIN:VEVENT
DTSTART:20150305T233000Z
DTEND:20150305T170000Z
X-MICROSOFT-CDO-ALLDAYEVENT:FALSE
SUMMARY:Improv Dinner Theatre Thursday Nights in February at Centre Street Pub
DESCRIPTION:Why? Because\, basically\, February sucks\, said Michael Burns\, Mopco director. We wanted to offer a different kind of date\, to do our part to help people stave off the winter blahs. Burns added\, People like to eat\, people like to laugh\, people like to drink beer. So\, hey let's help them do that! We rehearse across the street\, and often unwind at the Center Street Pub.  It's a warm\, casual\, fun place\, with good food.  the kind of place we love to perform in!  Mopco will perform several of their favorite\, tried-and-true formats\, as well as unveil a new format that may be eerily familiar to some boomers. New Format.   A three hour tour.  Imagine: A small group of quirky characters including a captain\, first mate\, rich couple\, an academic\,(who is so smart he can make a radio out of coconut shells\, but can't fix a boat) a movie star\, and a girl-next door type set out on a boat that breaks in a storm. They all end up stranded on this desert island.  Mopco is tentatively calling this format Castaways.
X-ALT-DESC;FMTTYPE=text/html:Why? Because\, basically\, February sucks\, said Michael Burns\, Mopco director. We wanted to offer a different kind of date\, to do our part to help people stave off the winter blahs. Burns added\, People like to eat\, people like to laugh\, people like to drink beer. So\, hey&nbsp\;let&#39\;s help them do that! We rehearse across the street\, and often unwind at the Center Street Pub. &nbsp\;It&#39\;s a warm\, casual\, fun place\, with good food. &nbsp\;the kind of place we love to perform in! &nbsp\;Mopco will perform several of their favorite\, tried-and-true formats\, as well as unveil a new format that may be eerily familiar to some boomers. New Format. &nbsp\;&nbsp\;A three hour tour.&nbsp\;&nbsp\;Imagine: A small group of quirky characters including a captain\, first mate\, rich couple\, an academic\,(who is so smart he can make a radio out of coconut shells\, but can&#39\;t fix a boat) a movie star\, and a girl-next door type set out on a boat that breaks in a storm. They all end up stranded on this desert island. &nbsp\;Mopco is tentatively calling this format Castaways.
LOCATION:Center Street Pub\, 308 Union Street\, Schenectady NY 12305
UID:e.2254.4881
SEQUENCE:3
DTSTAMP:20260423T214718Z
URL:https://chamber.saratoga.org/events/details/improv-dinner-theatre-thursday-nights-in-february-at-centre-street-pub-03-05-2015-4881
END:VEVENT

END:VCALENDAR
