BEGIN:VCALENDAR
VERSION:2.0
PRODID:-//ChamberMaster//Event Calendar 2.0//EN
METHOD:PUBLISH
X-PUBLISHED-TTL:P3D
REFRESH-INTERVAL:P3D
CALSCALE:GREGORIAN
BEGIN:VEVENT
DTSTART:20140729T180000Z
DTEND:20140729T230000Z
X-MICROSOFT-CDO-ALLDAYEVENT:FALSE
SUMMARY:If Wishes Were Horses - 07/29/2014
DESCRIPTION:
X-ALT-DESC;FMTTYPE=text/html:
LOCATION:Oliva Vineyards
UID:e.2254.3348
SEQUENCE:3
DTSTAMP:20260424T180027Z
URL:https://chamber.saratoga.org/events/details/if-wishes-were-horses-07-29-2014-07-29-2014-3348
END:VEVENT

END:VCALENDAR
