BEGIN:VCALENDAR
VERSION:2.0
PRODID:-//ChamberMaster//Event Calendar 2.0//EN
METHOD:PUBLISH
X-PUBLISHED-TTL:P3D
REFRESH-INTERVAL:P3D
CALSCALE:GREGORIAN
BEGIN:VEVENT
DTSTART;VALUE=DATE:20160929
DTEND;VALUE=DATE:20160930
TRANSP:TRANSPARENT
X-MICROSOFT-CDO-ALLDAYEVENT:TRUE
SUMMARY:Hyde Day Trip: Hyde Park
DESCRIPTION:Travel with fellow art lovers to Hyde Park and experience art\, gourmet cuisine\, and Roosevelt's home in beautiful Hyde Park\, New York. Visit www.hydecollection.org to learn more and register.\n\n \n\nDay Trip
X-ALT-DESC;FMTTYPE=text/html:<p><span style="font-size:12pt">Travel with fellow art lovers to Hyde Park and experience art\, gourmet cuisine\, and Roosevelt&rsquo\;s home in beautiful Hyde Park\, New York. Visit </span><a href="http://www.hydecollection.org/"><span style="font-size:12pt">www.hydecollection.org</span></a><span style="font-size:12pt"> to learn more and register.</span></p>\n\n<p><span style="font-size:12pt">&nbsp\;</span></p>\n\n<p><span style="font-size:12pt">Day Trip </span></p>\n
LOCATION:The Hyde Collection\, 161 Warren St.\, Glens Falls\, NY 12801
UID:e.2254.17353
SEQUENCE:3
DTSTAMP:20260421T002425Z
URL:https://chamber.saratoga.org/events/details/hyde-day-trip-hyde-park-09-29-2016-17353
END:VEVENT

END:VCALENDAR
