BEGIN:VCALENDAR
VERSION:2.0
PRODID:-//ChamberMaster//Event Calendar 2.0//EN
METHOD:PUBLISH
X-PUBLISHED-TTL:P3D
REFRESH-INTERVAL:P3D
CALSCALE:GREGORIAN
BEGIN:VEVENT
DTSTART:20160924T140000Z
DTEND:20160924T170000Z
X-MICROSOFT-CDO-ALLDAYEVENT:FALSE
SUMMARY:Hunt for History and Horses with the National Museum of Racing and Hall of Fame
DESCRIPTION:Join the National Museum of Racing and Hall of Fame on Saturday\, September 24th for a unique and family friendly scavenger hunt at the Saratoga Race Course! Teams will tour around the NYRA grounds with exclusive\, post-season access\, while learning about the history of thoroughbred racing and its connection to Saratoga Springs. After the scavenger hunt\, there will be pony rides\, a petting zoo\, crafts\, refreshments and other fall family activities. Registration begins at 9:30 a.m. The scavenger hunt and activities will be held from 10 a.m. to 1 p.m. followed by free admissions and unique exhibits across the street at the National Museum of Racing and Hall of Fame all day!
X-ALT-DESC;FMTTYPE=text/html:Join the National Museum of Racing and Hall of Fame on Saturday\, September 24th for a unique and family friendly scavenger hunt at the Saratoga Race Course! Teams will tour around the NYRA grounds with exclusive\, post-season access\, while learning about the history of thoroughbred racing and its connection to Saratoga Springs. After the scavenger hunt\, there will be pony rides\, a petting zoo\, crafts\, refreshments and other fall family activities. Registration begins at 9:30 a.m. The scavenger hunt and activities will be held from 10 a.m. to 1 p.m. followed by free admissions and unique exhibits across the street at the National Museum of Racing and Hall of Fame all day!
LOCATION:Saratoga Race Course 267 Union Avenue Saratoga Springs\, NY 12866
UID:e.2254.18636
SEQUENCE:3
DTSTAMP:20260420T232555Z
URL:https://chamber.saratoga.org/events/details/hunt-for-history-and-horses-with-the-national-museum-of-racing-and-hall-of-fame-18636
END:VEVENT

END:VCALENDAR
