BEGIN:VCALENDAR
VERSION:2.0
PRODID:-//ChamberMaster//Event Calendar 2.0//EN
METHOD:PUBLISH
X-PUBLISHED-TTL:P3D
REFRESH-INTERVAL:P3D
CALSCALE:GREGORIAN
BEGIN:VEVENT
DTSTART:20141015T110000Z
DTEND:20141015T130000Z
X-MICROSOFT-CDO-ALLDAYEVENT:FALSE
SUMMARY:HR Seminar
DESCRIPTION:
X-ALT-DESC;FMTTYPE=text/html:
LOCATION:Saratoga County Chamber Offices
UID:e.2254.316
SEQUENCE:3
DTSTAMP:20260424T093121Z
URL:https://chamber.saratoga.org/events/details/hr-seminar-10-15-2014-316
END:VEVENT

END:VCALENDAR
