BEGIN:VCALENDAR
VERSION:2.0
PRODID:-//ChamberMaster//Event Calendar 2.0//EN
METHOD:PUBLISH
X-PUBLISHED-TTL:P3D
REFRESH-INTERVAL:P3D
CALSCALE:GREGORIAN
BEGIN:VEVENT
DTSTART:20170223T230000Z
DTEND:20170224T010000Z
X-MICROSOFT-CDO-ALLDAYEVENT:FALSE
SUMMARY:How to Write a Grant Proposal
DESCRIPTION:February 23 Thursday | 6 to 8pm Queensbury Campus Learn how to research new grant opportunities and sharpen your grant-writing skills. The two-hour session will highlight best practices in creating successful proposals. Pre-registration required call continuing education at 518-743-2238 or email: conted@sunyacc.edu 518-743-2238
X-ALT-DESC;FMTTYPE=text/html:February 23 Thursday | 6 to 8pm Queensbury Campus Learn how to research new grant opportunities and sharpen your grant-writing skills. The two-hour session will highlight best practices in creating successful proposals. Pre-registration required call continuing education at 518-743-2238 or email: conted@sunyacc.edu 518-743-2238
LOCATION:Queensbury Campus
UID:e.2254.22674
SEQUENCE:3
DTSTAMP:20260420T101535Z
URL:https://chamber.saratoga.org/events/details/how-to-write-a-grant-proposal-22674
END:VEVENT

END:VCALENDAR
