BEGIN:VCALENDAR
VERSION:2.0
PRODID:-//ChamberMaster//Event Calendar 2.0//EN
METHOD:PUBLISH
X-PUBLISHED-TTL:P3D
REFRESH-INTERVAL:P3D
CALSCALE:GREGORIAN
BEGIN:VEVENT
DTSTART:20160520T130000Z
DTEND:20160522T200000Z
X-MICROSOFT-CDO-ALLDAYEVENT:FALSE
SUMMARY:How to Get A "Head" in the World of Woodcarving with Gerry Holzman. #948-0520. 2+1/2 days.
DESCRIPTION:The class\, designed to accommodate students at a variety of skill levels\, is based on the carving of a stylized monk's head. This charming chap\, whose ancestor was once a beam support in the rathskellar of the Hotel Buffalo\, has graciously offered to model for us. Working from a band-sawn cutout (2 inch thick basswood blank provided)\, you will complete one of these caricatures. Those with advanced carving and modeling skills will be encouraged to introduce some personal variations. The finished corbel can be hung like a picture\, used as a shelf or\, as the instructor has done in his own post & beam home\, actually be put to work as a beam supporter. A basic set of carving tools will be provided\, but if you have your own set and mallet you certainly should bring them along. Sharpening equipment will also be available.\n\n\nNOTE:  Please bring a hand mirror so you can copy some of your own facial details.
X-ALT-DESC;FMTTYPE=text/html:<pre>\n<span style="font-size:12pt"><span style="font-family:arial\,sans-serif"><span style="color:black">The class\, designed to accommodate students at a variety of skill levels\, is based on the carving of a stylized monk&#39\;s head. This charming chap\, whose ancestor was once a beam support in the rathskellar of the Hotel Buffalo\, has graciously offered to model for us. Working from a band-sawn cutout (2 inch thick basswood blank provided)\, you will complete one of these caricatures. Those with advanced carving and modeling skills will be encouraged to introduce some personal variations. The finished corbel can be hung like a picture\, used as a shelf or\, as the instructor has done in his own post &amp\; beam home\, actually be put to work as a beam supporter. A basic set of carving tools will be provided\, but if you have your own set and mallet you certainly should bring them along. Sharpening equipment will also be available.</span></span></span></pre>\n\n<pre>\n<strong><span style="font-size:12pt"><span style="font-family:arial\,sans-serif"><span style="color:black">NOTE:&nbsp\; Please bring a hand mirror so you can copy some of your own facial details</span></span></span></strong><span style="font-family:arial\,sans-serif"><span style="font-size:small">.&nbsp\; </span></span></pre>\n
LOCATION:Adirondack Folk School 51 Main Street Lake Luzerne\, NY 12846
UID:e.2254.15590
SEQUENCE:3
DTSTAMP:20260421T161314Z
URL:https://chamber.saratoga.org/events/details/how-to-get-a-head-in-the-world-of-woodcarving-with-gerry-holzman-948-0520-2-1-2-days-05-20-2016-15590
END:VEVENT

END:VCALENDAR
