BEGIN:VCALENDAR
VERSION:2.0
PRODID:-//ChamberMaster//Event Calendar 2.0//EN
METHOD:PUBLISH
X-PUBLISHED-TTL:P3D
REFRESH-INTERVAL:P3D
CALSCALE:GREGORIAN
BEGIN:VEVENT
DTSTART:20151207T180000Z
DTEND:20151207T190000Z
X-MICROSOFT-CDO-ALLDAYEVENT:FALSE
SUMMARY:How do you want to Be Remembered?
DESCRIPTION:Tunison Funeral Home is pleased to offer a new digital solution that allows you to record important pieces of your life for your family and future generations. These pieces can be honored and celebrated through a free online community where you can share your stories\, pictures\, or messages that will live on even after you leave this life. Join us to start documenting the important milestones and events in your life and even record messages for loved ones. Call the Saratoga Senior Center to reserve your seat: 584-1621.
X-ALT-DESC;FMTTYPE=text/html:Tunison Funeral Home is pleased to offer a new digital solution that allows you to record important pieces of your life for your family and future generations. These pieces can be honored and celebrated through a free online community where you can share your stories\, pictures\, or messages that will live on even after you leave this life. Join us to start documenting the important milestones and events in your life and even record messages for loved ones. Call the Saratoga Senior Center to reserve your seat: 584-1621.
LOCATION:Saratoga Senior Center 5 Williams St. Saratoga Springs\, NY 12866
UID:e.2254.13094
SEQUENCE:3
DTSTAMP:20260422T103953Z
URL:https://chamber.saratoga.org/events/details/how-do-you-want-to-be-remembered-12-07-2015-13094
END:VEVENT

END:VCALENDAR
