BEGIN:VCALENDAR
VERSION:2.0
PRODID:-//ChamberMaster//Event Calendar 2.0//EN
METHOD:PUBLISH
X-PUBLISHED-TTL:P3D
REFRESH-INTERVAL:P3D
CALSCALE:GREGORIAN
BEGIN:VEVENT
DTSTART:20170127T180000Z
DTEND:20170127T200000Z
X-MICROSOFT-CDO-ALLDAYEVENT:FALSE
SUMMARY:Housing Expo
DESCRIPTION:Information on senior housing\, assisted living\, agencies to help you age in place\, the Star Program and more. Attendees- Centers Health Care\, Home of the Good Shepard\, Prestwick Chase\, The Wesley Community\, Organize Senior Moves\, Rebuilding Saratoga\, City of Saratoga: Community Development Office and the Assessment Office and more. OPEN TO THE PUBLIC.
X-ALT-DESC;FMTTYPE=text/html:Information on senior housing\, assisted living\, agencies to help you age in place\, the Star Program and more. Attendees- Centers Health Care\, Home of the Good Shepard\, Prestwick Chase\, The Wesley Community\, Organize Senior Moves\, Rebuilding Saratoga\, City of Saratoga: Community Development Office and the Assessment Office and more. OPEN TO THE PUBLIC.
LOCATION:The Adult and Senior Center of Saratoga 5 Williams Street Saratoga Springs\, NY 12866
UID:e.2254.21754
SEQUENCE:3
DTSTAMP:20260420T151221Z
URL:https://chamber.saratoga.org/events/details/housing-expo-21754
END:VEVENT

END:VCALENDAR
