BEGIN:VCALENDAR
VERSION:2.0
PRODID:-//ChamberMaster//Event Calendar 2.0//EN
METHOD:PUBLISH
X-PUBLISHED-TTL:P3D
REFRESH-INTERVAL:P3D
CALSCALE:GREGORIAN
BEGIN:VEVENT
DTSTART:20150801T160000Z
DTEND:20150801T200000Z
X-MICROSOFT-CDO-ALLDAYEVENT:FALSE
SUMMARY:Horse Farm Tour
DESCRIPTION:The 2015 Saratoga County Horse Farm Tour is a FREE self-driven tour open to the public. The tour is designed to proved community access to selected horse farms in Saratoga County. This program is brought to you by Saratoga County Board of Supervisors\, Cornell Cooperative Extension and The New York Thoroughbred Breeding and Development Fund.
X-ALT-DESC;FMTTYPE=text/html:The 2015 Saratoga County Horse Farm Tour is a FREE self-driven tour open to the public. The tour is designed to proved community access to selected horse farms in Saratoga County. This program is brought to you by Saratoga County Board of Supervisors\, Cornell Cooperative Extension and The New York Thoroughbred Breeding and Development Fund.
LOCATION:For a listing of all 7 farms and equine veterinary clinic visit www.ccesaratoga.org
UID:e.2254.10177
SEQUENCE:3
DTSTAMP:20260423T023904Z
URL:https://chamber.saratoga.org/events/details/horse-farm-tour-08-01-2015-10177
END:VEVENT

END:VCALENDAR
